BEGIN:VCALENDAR
VERSION:2.0
PRODID:-//Naturkinderland Erlenhof - ECPv6.15.20//NONSGML v1.0//EN
CALSCALE:GREGORIAN
METHOD:PUBLISH
X-ORIGINAL-URL:https://naturkinderland-erlenhof.de
X-WR-CALDESC:Veranstaltungen für Naturkinderland Erlenhof
REFRESH-INTERVAL;VALUE=DURATION:PT1H
X-Robots-Tag:noindex
X-PUBLISHED-TTL:PT1H
BEGIN:VTIMEZONE
TZID:Europe/Berlin
BEGIN:DAYLIGHT
TZOFFSETFROM:+0100
TZOFFSETTO:+0200
TZNAME:CEST
DTSTART:20230326T010000
END:DAYLIGHT
BEGIN:STANDARD
TZOFFSETFROM:+0200
TZOFFSETTO:+0100
TZNAME:CET
DTSTART:20231029T010000
END:STANDARD
BEGIN:DAYLIGHT
TZOFFSETFROM:+0100
TZOFFSETTO:+0200
TZNAME:CEST
DTSTART:20240331T010000
END:DAYLIGHT
BEGIN:STANDARD
TZOFFSETFROM:+0200
TZOFFSETTO:+0100
TZNAME:CET
DTSTART:20241027T010000
END:STANDARD
BEGIN:DAYLIGHT
TZOFFSETFROM:+0100
TZOFFSETTO:+0200
TZNAME:CEST
DTSTART:20250330T010000
END:DAYLIGHT
BEGIN:STANDARD
TZOFFSETFROM:+0200
TZOFFSETTO:+0100
TZNAME:CET
DTSTART:20251026T010000
END:STANDARD
END:VTIMEZONE
BEGIN:VEVENT
DTSTART;TZID=Europe/Berlin:20240614T150000
DTEND;TZID=Europe/Berlin:20240614T170000
DTSTAMP:20260420T135929
CREATED:20240523T193621Z
LAST-MODIFIED:20240524T110320Z
UID:1751-1718377200-1718384400@naturkinderland-erlenhof.de
SUMMARY:Bauernhofstrolche 2024 3/6
DESCRIPTION:Was erleben die Bauernhofstrolche auf dem Erlenhof? \nSpannende Erlebnisse und lehrreiche Abenteuer rund um den Bauernhof stehen unseren Strolchen bevor. Ob gemeinsames Anbauen und Ernten im Bauerngarten\, Verpflegen und Kennenlernen der Bauernhoftiere (Pferde\, Schweine\, Hühner\, Hasen etc.) oder das aktive Naturerleben in einzigartiger Umgebung: dem Entdeckergeist wird hier ein nährreicher Boden gegeben.\nAusflüge in die nähere Umgebung und kreative Möglichkeiten runden das Angebot ab. \nBenötigt wird:\n \n\nWetterfeste Kleidung\nGesunder Snack\n\n\nZielgruppe:       Kinder von 4 – 7 Jahren\, 8 Plätze \nUhrzeit:               15-17 Uhr \nTermine:            Start: 31.05.23\, 6 aufeinanderfolgende Einheiten \n(immer freitags) \nKursleitung:    Angi Adam und Julia Hanow \nKontakt:            0170-4970871 \nE-Mail:                j.hanow@gmx.de \nKosten:              105 € \nDas Formular zur Anmeldung befindet sich im Download-Bereich (Anmeldung Bauernhofstrolche 2024)
URL:https://naturkinderland-erlenhof.de/event/bauernhofstrolche-2024-2/
LOCATION:Naturkinderland Erlenhof\, Erlenhof 1\, Stockheim\, 63695\, Germany
CATEGORIES:Bauernhofstrolche
ATTACH;FMTTYPE=image/jpeg:https://naturkinderland-erlenhof.de/wp-content/uploads/2024/05/Bauernhofstrolche-2024.jpg
ORGANIZER;CN="Angi Adam und Julia Hanow":MAILTO:j.hanow@gmx.de
END:VEVENT
BEGIN:VEVENT
DTSTART;TZID=Europe/Berlin:20240607T150000
DTEND;TZID=Europe/Berlin:20240607T170000
DTSTAMP:20260420T135929
CREATED:20240523T193557Z
LAST-MODIFIED:20240524T110219Z
UID:1749-1717772400-1717779600@naturkinderland-erlenhof.de
SUMMARY:Bauernhofstrolche 2024 2/6
DESCRIPTION:Was erleben die Bauernhofstrolche auf dem Erlenhof? \nSpannende Erlebnisse und lehrreiche Abenteuer rund um den Bauernhof stehen unseren Strolchen bevor. Ob gemeinsames Anbauen und Ernten im Bauerngarten\, Verpflegen und Kennenlernen der Bauernhoftiere (Pferde\, Schweine\, Hühner\, Hasen etc.) oder das aktive Naturerleben in einzigartiger Umgebung: dem Entdeckergeist wird hier ein nährreicher Boden gegeben.\nAusflüge in die nähere Umgebung und kreative Möglichkeiten runden das Angebot ab. \nBenötigt wird:\n \n\nWetterfeste Kleidung\nGesunder Snack\n\n\nZielgruppe:       Kinder von 4 – 7 Jahren\, 8 Plätze \nUhrzeit:               15-17 Uhr \nTermine:            Start: 31.05.23\, 6 aufeinanderfolgende Einheiten \n(immer freitags) \nKursleitung:    Angi Adam und Julia Hanow \nKontakt:            0170-4970871 \nE-Mail:                j.hanow@gmx.de \nKosten:              105 € \nDas Formular zur Anmeldung befindet sich im Download-Bereich (Anmeldung Bauernhofstrolche 2024)
URL:https://naturkinderland-erlenhof.de/event/bauernhofstrolche-2024/
LOCATION:Naturkinderland Erlenhof\, Erlenhof 1\, Stockheim\, 63695\, Germany
CATEGORIES:Bauernhofstrolche
ATTACH;FMTTYPE=image/jpeg:https://naturkinderland-erlenhof.de/wp-content/uploads/2024/05/Bauernhofstrolche-2024.jpg
ORGANIZER;CN="Angi Adam und Julia Hanow":MAILTO:j.hanow@gmx.de
END:VEVENT
BEGIN:VEVENT
DTSTART;TZID=Europe/Berlin:20240531T150000
DTEND;TZID=Europe/Berlin:20240531T170000
DTSTAMP:20260420T135929
CREATED:20240523T192829Z
LAST-MODIFIED:20240524T110136Z
UID:1745-1717167600-1717174800@naturkinderland-erlenhof.de
SUMMARY:Bauernhofstrolche 2024 1/6
DESCRIPTION:Was erleben die Bauernhofstrolche auf dem Erlenhof? \nSpannende Erlebnisse und lehrreiche Abenteuer rund um den Bauernhof stehen unseren Strolchen bevor. Ob gemeinsames Anbauen und Ernten im Bauerngarten\, Verpflegen und Kennenlernen der Bauernhoftiere (Pferde\, Schweine\, Hühner\, Hasen etc.) oder das aktive Naturerleben in einzigartiger Umgebung: dem Entdeckergeist wird hier ein nährreicher Boden gegeben.\nAusflüge in die nähere Umgebung und kreative Möglichkeiten runden das Angebot ab. \nBenötigt wird:\n \n\nWetterfeste Kleidung\nGesunder Snack\n\n\nZielgruppe:       Kinder von 4 – 7 Jahren\, 8 Plätze \nUhrzeit:               15-17 Uhr \nTermine:            Start: 31.05.23\, 6 aufeinanderfolgende Einheiten \n(immer freitags) \nKursleitung:    Angi Adam und Julia Hanow \nKontakt:            0170-4970871 \nE-Mail:                j.hanow@gmx.de \nKosten:              105 € \nDas Formular zur Anmeldung befindet sich im Download-Bereich (Anmeldung Bauernhofstrolche 2024)
URL:https://naturkinderland-erlenhof.de/event/1745/
LOCATION:Naturkinderland Erlenhof\, Erlenhof 1\, Stockheim\, 63695\, Germany
CATEGORIES:Bauernhofstrolche
ATTACH;FMTTYPE=image/jpeg:https://naturkinderland-erlenhof.de/wp-content/uploads/2024/05/Bauernhofstrolche-2024.jpg
ORGANIZER;CN="Angi Adam und Julia Hanow":MAILTO:j.hanow@gmx.de
END:VEVENT
END:VCALENDAR